BEGIN:VCALENDAR
VERSION:2.0
PRODID:-//Pallicura Akademie - ECPv6.15.20//NONSGML v1.0//EN
CALSCALE:GREGORIAN
METHOD:PUBLISH
X-WR-CALNAME:Pallicura Akademie
X-ORIGINAL-URL:https://www.pallicura.de/akademie
X-WR-CALDESC:Veranstaltungen für Pallicura Akademie
REFRESH-INTERVAL;VALUE=DURATION:PT1H
X-Robots-Tag:noindex
X-PUBLISHED-TTL:PT1H
BEGIN:VTIMEZONE
TZID:Europe/Berlin
BEGIN:DAYLIGHT
TZOFFSETFROM:+0100
TZOFFSETTO:+0200
TZNAME:CEST
DTSTART:20250330T010000
END:DAYLIGHT
BEGIN:STANDARD
TZOFFSETFROM:+0200
TZOFFSETTO:+0100
TZNAME:CET
DTSTART:20251026T010000
END:STANDARD
BEGIN:DAYLIGHT
TZOFFSETFROM:+0100
TZOFFSETTO:+0200
TZNAME:CEST
DTSTART:20260329T010000
END:DAYLIGHT
BEGIN:STANDARD
TZOFFSETFROM:+0200
TZOFFSETTO:+0100
TZNAME:CET
DTSTART:20261025T010000
END:STANDARD
BEGIN:DAYLIGHT
TZOFFSETFROM:+0100
TZOFFSETTO:+0200
TZNAME:CEST
DTSTART:20270328T010000
END:DAYLIGHT
BEGIN:STANDARD
TZOFFSETFROM:+0200
TZOFFSETTO:+0100
TZNAME:CET
DTSTART:20271031T010000
END:STANDARD
BEGIN:DAYLIGHT
TZOFFSETFROM:+0100
TZOFFSETTO:+0200
TZNAME:CEST
DTSTART:20280326T010000
END:DAYLIGHT
BEGIN:STANDARD
TZOFFSETFROM:+0200
TZOFFSETTO:+0100
TZNAME:CET
DTSTART:20281029T010000
END:STANDARD
END:VTIMEZONE
BEGIN:VEVENT
DTSTART;TZID=Europe/Berlin:20260713T000000
DTEND;TZID=Europe/Berlin:20270423T235959
DTSTAMP:20260424T095307
CREATED:20250807T211019Z
LAST-MODIFIED:20260422T211429Z
UID:2303-1783900800-1808524799@www.pallicura.de
SUMMARY:Palliative Care Basiskurs
DESCRIPTION:13. Juli 2026 – 23. April 2027 \n\n\n\n\n\n\n\nWeiterbildung für Pflegefachpersonen und qualifizierte Berufsgruppen gemäß § 39a SGB V \n\n\n\n\n\n\n\nKursleitung\n\n\n\n\nMelanie Weber \n\n\n\nPalliative-Care-Fachkraft\, zertifizierte Kursleiterin (DGP)\, verantwortliche Pflegefachkraft \n\n\n\n\n\n\n\n\nKursbeschreibung\n\n\n\nPalliative Care bedeutet eine ganzheitliche Betreuung von Menschen mit unheilbaren\, lebensbegrenzenden Erkrankungen. Ziel ist es\, Leiden zu lindern\, Lebensqualität zu erhalten und die letzte Lebensphase als lebenswert zu gestalten – orientiert an den individuellen Bedürfnissen der Betroffenen sowie ihrer An- und Zugehörigen.  \n\n\n\nDer Basiskurs qualifiziert examinierte Pflegefachpersonen dazu\, palliativpflegerisch kompetent zu handeln\, beratend tätig zu sein und Kolleg*innen anzuleiten. Die Weiterbildung entspricht dem anerkannten Basiscurriculum nach Kern\, Müller und Aurnhammer und schließt mit einem Zertifikat der Deutschen Gesellschaft für Palliativmedizin (DGP) ab. \n\n\n\n\n\n\n\nAufbau und Inhalte\n\n\n\nDie Weiterbildung ist kompetenzorientiert aufgebaut. Im Mittelpunkt stehen folgende Kernkompetenzen: \n\n\n\n\nAnwendung der Grundprinzipien von Palliative Care unter Einbeziehung der An- und Zugehörigen\n\n\n\nFörderung des körperlichen Wohlbefindens im Krankheitsverlauf\n\n\n\nWahrnehmung und Begleitung psychischer Bedürfnisse\n\n\n\nBerücksichtigung sozialer Dimensionen von Krankheit und Sterben\n\n\n\nAuseinandersetzung mit spirituellen und existenziellen Fragen\n\n\n\nUnterstützung pflegender An- und Zugehöriger\n\n\n\nUmgang mit klinischen und ethischen Entscheidungsprozessen\n\n\n\nVersorgungskoordination und interdisziplinäre Teamarbeit\n\n\n\nProfessionelle Kommunikation in palliativen Settings\n\n\n\nSelbstreflexion und kontinuierliche professionelle Weiterentwicklung\n\n\n\n\n\n\n\n\nZiel\n\n\n\nDie Teilnehmenden entwickeln fundierte palliativpflegerische Fachkompetenz\, stärken ihre kommunikative Sicherheit und erweitern ihre Fähigkeit zur multiprofessionellen Zusammenarbeit in komplexen Versorgungssituationen. \n\n\n\n\n\n\n\nZielgruppe\n\n\n\nDie Weiterbildung richtet sich vorrangig an Pflegefachpersonen.Weitere qualifizierte Fachkräfte aus dem Sozial- und Gesundheitswesen (z. B. Ergotherapeut*innen\, Heilerziehungspfleger*innen\, Sozialarbeiter*innen) können nach Rücksprache mit der Kursleitung teilnehmen. \n\n\n\n\n\n\n\nUmfang\n\n\n\nVier Blockwochen (insgesamt 160 Unterrichtseinheiten) \n\n\n\n\n\n\n\nTermine\n\n\n\n\nBlock I: 13.07. – 17.07.2026\n\n\n\nBlock II: 05.10. – 09.10.2026\n\n\n\nBlock III: 18.01. – 22.01.2027\n\n\n\nBlock IV: 19.04. – 23.04.2027\n\n\n\n\n\n\n\n\nUnterrichtszeiten\n\n\n\nJeweils von 9.00 bis 16.30 Uhr \n\n\n\n\n\n\n\nKursgebühr\n\n\n\n1600€ \n\n\n\n\n\n\n\n\n\n\n\nNachweis\n\n\n\n Abschluss mit DGP-Zertifikat \n\n\n\n\n\n\n\nJETZT ANMELDEN:\n\n\nBitte aktiviere JavaScript in deinem Browser\, um dieses Formular fertigzustellen.Bitte aktiviere JavaScript in deinem Browser\, um dieses Formular fertigzustellen.Name *VornameNachnameTelefonnummer *E-Mail-Adresse *Straße und Nr *		\n			E-Mail-Adresse Name und\n			\n		\n		PLZ und Ort *Rechnungsanschrift *Anmelden  \n\n\n\n\n\n\n\nIm Rahmen der Kursanmeldung werden personenbezogene Daten (Name\, Anschrift) verarbeitet. Die Verarbeitung erfolgt zum Zweck der Durchführung der Anmeldung sowie zur Übersendung einer Anmeldebestätigung per E-Mail.Rechtsgrundlage für die Verarbeitung ist Art. 6 Abs.1 lit. b DSGVO (Vertragserfüllung bzw. Durchführung vorvertraglicher Maßnahmen). Sofern Sie mit dieser Datenverarbeitung nicht einverstanden sind\, ist eine Anmeldung ausschließlich telefonisch möglich.
URL:https://www.pallicura.de/akademie/kurs/palliative-care-basiskurs/
LOCATION:Schulungsraum Pallicura\, Birkenlohstraße 6\, Schwandorf\, 92421\, Germany
END:VEVENT
BEGIN:VEVENT
DTSTART;TZID=Europe/Berlin:20260921T000000
DTEND;TZID=Europe/Berlin:20260923T235959
DTSTAMP:20260424T095307
CREATED:20260210T174214Z
LAST-MODIFIED:20260422T211541Z
UID:2472-1789948800-1790207999@www.pallicura.de
SUMMARY:Palliative Care kompetent anleiten
DESCRIPTION:21. September 2026 – 23. September 2026 \n\n\n\n\n\n\n\n\n\n\n\nPflichtfortbildung für Praxisanleiter*innen nach § 4 PflAPrV \n\n\n\n\n\n\n\n \n\n\n\nReferent*innen\n\n\n\n\nMelanie Weber \n\n\n\nPalliative-Care-Fachkraft\, zertifizierte Kursleiterin (DGP)\, verantwortliche Pflegefachkraft \n\n\n\n\n\n\n\n\n\nAnnette Obertshauser \n\n\n\nPalliative-Care-Fachkraft\, Praxisanleiterin\, Atemtherapeutin \n\n\n\n\n\n\n\n\n\nKatharina Gold \n\n\n\nDiplompädagogin\, Systemische Therapeutin (DGSF)\, Supervisorin \n\n\n\n\n\n\n\n\nKursbeschreibung\n\n\n\nPalliative Care stellt Praxisanleiter*innen vor besondere fachliche\, pädagogische und emotionale Anforderungen. Diese dreitägige Fortbildung verbindet fundiertes Grundlagenwissen in Palliative Care mit berufspädagogischer Kompetenz und reflektierter Praxisanleitung.Im Mittelpunkt stehen die fachlichen Grundlagen\, deren strukturierte Vermittlung im Ausbildungsalltag sowie der professionelle Umgang mit herausfordernden palliativen Situationen. Die Teilnehmenden erweitern ihre Anleitungskompetenz\, lernen geeignete Methoden für sensible Themenfelder kennen und stärken ihre Rolle als fachliche Orientierung und Begleitung für Auszubildende.Ein besonderer Schwerpunkt liegt auf kollegialer Beratung\, Motivation\, Resilienz und Selbstreflexion. Durch praxisnahe Fallarbeit\, moderierten Austausch und strukturierte Reflexionsmethoden werden Handlungssicherheit und nachhaltiger Transfer in den Berufsalltag gefördert.Die Fortbildung erfüllt die Anforderungen der jährlichen Pflichtfortbildung gemäß § 4 PflAPrV. \n\n\n\n\n\n\n\nAufbau und Inhalte\n\n\n\n\n\n\n\nModul 1 – Grundlagen Palliative Care und Einordnung in Ausbildung und Praxisanleitung (8 UE)\n\n\n\n\nDefinition\, Zielsetzung und Abgrenzung (kurativ – palliativ – hospizlich)\n\n\n\nHaltung\, Werte und ethische Grundprinzipien\n\n\n\nLebensqualität\, Symptomlinderung\, Ganzheitlichkeit\n\n\n\nRolle der Pflege im multiprofessionellen Kontext\n\n\n\nBedeutung von Palliative Care in der generalistischen Pflegeausbildung\n\n\n\n\n\n\n\n\nModul 2 – Palliative Care pädagogisch vermitteln (8 UE)\n\n\n\n\nRolle und Verantwortung der Praxisanleitung im palliativen Kontext\n\n\n\nLernziele und Kompetenzentwicklung von Auszubildenden\n\n\n\nPlanung und Gestaltung von Anleitungssituationen\n\n\n\nDidaktische Grundlagen für sensible Themen (Sterben\, Tod\, Abschied)\n\n\n\nMethoden: Fallarbeit\, Beobachtungsaufträge\, Reflexionsgespräche\, praxisnahe Lernaufgaben\n\n\n\nGesprächsführung\, Umgang mit Unsicherheit und emotionaler Belastung\n\n\n\nFeedbackkultur und Begleitung von Lernprozessen\n\n\n\n\n\n\n\n\nModul 3 – Kollegiale Beratung\, Motivation und Resilienz (8 UE)\n\n\n\n\nStrukturierte kollegiale Fallberatung\n\n\n\nReflexion professioneller Rolle und Belastung\n\n\n\nMotivation in der Praxisanleitung\n\n\n\nResilienz und Selbstfürsorge\n\n\n\nTransferstrategien für den Berufsalltag\n\n\n\n\n\n\n\n\nZiel\n\n\n\nDie Fortbildung befähigt Praxisanleiter*innen\, Palliative-Care-Grundlagen fachlich fundiert und pädagogisch angemessen zu vermitteln. Gleichzeitig stärkt sie die Kompetenz zur kollegialen Beratung sowie zur reflektierten und resilienten Gestaltung der eigenen Anleitungspraxis. \n\n\n\n\n\n\n\nZielgruppe\n\n\n\nPraxisanleiter*innen in der Pflege\, die ihre jährliche Pflichtfortbildung gemäß § 4 PflAPrV absolvieren und ihre Kompetenzen im palliativen Kontext vertiefen möchten. \n\n\n\n \n\n\n\n \n\n\n\n\n\n\n\nUmfang\n\n\n\n24 Unterrichtseinheiten (3 Tage à 8 UE) \n\n\n\n\n\n\n\n\n\n\n\nTermin(e)\n\n\n\n\nMontag\, 21.09.2026\n\n\n\nDienstag\, 22.09.2026\n\n\n\nMittwoch\, 23.09.2026\n\n\n\n\n\n\n\n\nUnterrichtszeiten\n\n\n\nJeweils von 9.00 bis 16.30 Uhr \n\n\n\n\n\n\n\nKursgebühr\n\n\n\n349€ \n\n\n\n\n\n\n\nNachweis\n\n\n\nTeilnahmebescheinigung gemäß § 4 PflAPrV \n\n\n\n \n\n\n\n\n\n\n\nJETZT ANMELDEN:\n\n\nBitte aktiviere JavaScript in deinem Browser\, um dieses Formular fertigzustellen.Bitte aktiviere JavaScript in deinem Browser\, um dieses Formular fertigzustellen.Name *VornameNachnameTelefonnummer *E-Mail-Adresse *		\n			Rechnungsanschrift und Straße\n			\n		\n		Straße und Nr *PLZ und Ort *Rechnungsanschrift *Anmelden  \n\n\n\n\n\n\n\nIm Rahmen der Kursanmeldung werden personenbezogene Daten (Name\, Anschrift) verarbeitet. Die Verarbeitung erfolgt zum Zweck der Durchführung der Anmeldung sowie zur Übersendung einer Anmeldebestätigung per E-Mail.Rechtsgrundlage für die Verarbeitung ist Art. 6 Abs.1 lit. b DSGVO (Vertragserfüllung bzw. Durchführung vorvertraglicher Maßnahmen). Sofern Sie mit dieser Datenverarbeitung nicht einverstanden sind\, ist eine Anmeldung ausschließlich telefonisch möglich.
URL:https://www.pallicura.de/akademie/kurs/palliative-care-kompetent-anleiten/
END:VEVENT
BEGIN:VEVENT
DTSTART;TZID=Europe/Berlin:20261112T090000
DTEND;TZID=Europe/Berlin:20261113T163000
DTSTAMP:20260424T095307
CREATED:20250807T202334Z
LAST-MODIFIED:20260422T211240Z
UID:2251-1794474000-1794587400@www.pallicura.de
SUMMARY:Palliative Care Refresher
DESCRIPTION:12. November – 13. November 2026 \n\n\n\n\n\n\n\nMimik und Körpersprache besser verstehen \n\n\n\n\n\n\n\nReferentin\n\n\n\n\nDr. Katharina Gold \n\n\n\nDiplompädagogin\, Therapeutin (DGSF)\, Supervisorin  \n\n\n\n\n\n\n\n\nKursbeschreibung\n\n\n\nIn der Palliativversorgung ist Kommunikation weit mehr als das gesprochene Wort. Schmerzen\, Angst\, Anspannung oder Rückzug zeigen sich häufig zuerst – und manchmal ausschließlich – über Mimik\, Körpersprache und subtile nonverbale Signale.Dieser zweitägige Refresher-Kurs unterstützt erfahrene Fachkräfte dabei\, ihre Beobachtungskompetenz gezielt zu schärfen. Sie lernen\, körperliche Ausdrucksformen differenziert wahrzunehmen\, Mikroexpressionen zu erkennen und nonverbale Hinweise systematisch in die Symptom- und Schmerzeinschätzung zu integrieren.Besonderer Fokus liegt auf der Arbeit mit schwerkranken und sterbenden Menschen\, insbesondere auch mit Patient*innen mit eingeschränkter Kommunikationsfähigkeit. \n\n\n\n\n\n\n\nAufbau und Inhalte\n\n\n\nBedeutung nonverbaler Kommunikation\n\n\n\n\nRolle von Mimik und Körpersprache in der Begleitung schwerkranker und sterbender Menschen\n\n\n\nBeitrag nonverbaler Signale zur Symptom- und Schmerzbewertung\n\n\n\n\n\n\n\n\nKörpersprache differenziert wahrnehmen\n\n\n\n\nSensibilisierung für Haltung\, Bewegungen und Muskelanspannungen\n\n\n\nGezieltes Beobachten in unterschiedlichen pflegerischen Situationen\n\n\n\n\n\n\n\n\nMimik als Schlüssel zur Emotionswahrnehmung\n\n\n\n\nGrundlagen zur Interpretation von Gesichtsausdrücken\n\n\n\nAnalyse von Mikroexpressionen als Hinweis auf Schmerz\, Angst oder Unwohlsein\n\n\n\n\n\n\n\n\nSymptom- und Schmerzeinschätzung erweitern\n\n\n\n\nIntegration nonverbaler Beobachtungen in bestehende Assessmentverfahren\n\n\n\nUmgang mit Patient*innen mit eingeschränkter verbaler Kommunikation\n\n\n\n\n\n\n\n\nPraxis und Selbstreflexion\n\n\n\n\nVideobeispiele und strukturierte Analyse\n\n\n\nFallbesprechungen aus dem beruflichen Alltag\n\n\n\nRollenspiele und Gruppenarbeiten\n\n\n\nReflexion der eigenen nonverbalen Kommunikation\n\n\n\nFeedbackrunden\n\n\n\n\n\n\n\n\nZiel\n\n\n\nDie Teilnehmenden vertiefen ihre Kompetenz in der Wahrnehmung und Interpretation nonverbaler Kommunikation und erweitern ihre diagnostische Sicherheit in der Symptom- und Schmerzbeurteilung in der Palliativversorgung.  \n\n\n\n\n\n\n\nZielgruppe\n\n\n\nPflegefachpersonen und andere in der Palliativversorgung tätige Fachkräfte\, die bereits einen Palliative Care Basiskurs absolviert haben und ihr Wissen im Bereich nonverbaler Kommunikation gezielt vertiefen möchten. \n\n\n\n\n\n\n\nUmfang\n\n\n\n2 Kurstage \n\n\n\n\n\n\n\n\n\n\n\n\n\n\n\nTermin(e)\n\n\n\n\nDonnerstag\, 12.11.2026\n\n\n\nFreitag\, 13.11.2026\n\n\n\n\n\n\n\n\nUnterrichtszeiten\n\n\n\nJeweils von 09.00 – 16.30 Uhr \n\n\n\n\n\n\n\nKursgebühr\n\n\n\n249€ \n\n\n\n\n\n\n\nJETZT ANMELDEN:\n\n\nBitte aktiviere JavaScript in deinem Browser\, um dieses Formular fertigzustellen.Bitte aktiviere JavaScript in deinem Browser\, um dieses Formular fertigzustellen.Name *VornameNachname		\n			Straße und PLZ\n			\n		\n		Telefonnummer *E-Mail-Adresse *Straße und Nr *PLZ und Ort *Rechnungsanschrift *Anmelden  \n\n\n\n\n\n\n\nIm Rahmen der Kursanmeldung werden personenbezogene Daten (Name\, Anschrift) verarbeitet. Die Verarbeitung erfolgt zum Zweck der Durchführung der Anmeldung sowie zur Übersendung einer Anmeldebestätigung per E-Mail.Rechtsgrundlage für die Verarbeitung ist Art. 6 Abs.1 lit. b DSGVO (Vertragserfüllung bzw. Durchführung vorvertraglicher Maßnahmen). Sofern Sie mit dieser Datenverarbeitung nicht einverstanden sind\, ist eine Anmeldung ausschließlich telefonisch möglich.
URL:https://www.pallicura.de/akademie/kurs/palliative-care-refresher-mimik-und-koerpersprache-besser-verstehen/
END:VEVENT
END:VCALENDAR